BEGIN:VCALENDAR
VERSION:2.0
PRODID:-//Plone.org//NONSGML plone.app.event//EN
X-WR-TIMEZONE:Europe/Zurich
BEGIN:VEVENT
SUMMARY:eastPLUGGED®28 Matt Carmichael Quintett "Where Will The River Flo
 w"
DTSTART;TZID=Europe/Zurich;VALUE=DATE-TIME:20220909T193000
DTSTAMP;VALUE=DATE-TIME:20260420T231947Z
UID:54422be25bf74b4c8ff38689fcaf9c58@localhost:10681
CREATED;VALUE=DATE-TIME:20220127T110242Z
LAST-MODIFIED;VALUE=DATE-TIME:20220127T110242Z
LOCATION:Friedenskirche Hegelstr. 16
URL:https://www.bluechurch.ch/events/eastplugged-r-28-matt-carmichael-quin
 tett-where-will-the-river-flow
END:VEVENT
BEGIN:VTIMEZONE
TZID:Europe/Zurich
X-LIC-LOCATION:Europe/Zurich
BEGIN:DAYLIGHT
DTSTART;VALUE=DATE-TIME:20220327T030000
TZNAME:CEST
TZOFFSETFROM:+0100
TZOFFSETTO:+0200
END:DAYLIGHT
END:VTIMEZONE
END:VCALENDAR
