BEGIN:VCALENDAR
VERSION:2.0
PRODID:-//Plone.org//NONSGML plone.app.event//EN
X-WR-TIMEZONE:Europe/Zurich
BEGIN:VEVENT
SUMMARY:eastPLUGGED(R)27 TRIOSENCE featuring PAOLO FRESU
DTSTART;TZID=Europe/Zurich;VALUE=DATE-TIME:20220629T193000
DTSTAMP;VALUE=DATE-TIME:20260420T232059Z
UID:f317420e5f3c46e58639d802834dffd3@localhost:10681
CREATED;VALUE=DATE-TIME:20220521T082901Z
LAST-MODIFIED;VALUE=DATE-TIME:20220521T083955Z
LOCATION:Friedenskirche Hegelstr.16
URL:https://www.bluechurch.ch/events/eastplugged-r-27-triosence-featuring-
 paolo-fresu
END:VEVENT
BEGIN:VTIMEZONE
TZID:Europe/Zurich
X-LIC-LOCATION:Europe/Zurich
BEGIN:DAYLIGHT
DTSTART;VALUE=DATE-TIME:20220327T030000
TZNAME:CEST
TZOFFSETFROM:+0100
TZOFFSETTO:+0200
END:DAYLIGHT
END:VTIMEZONE
END:VCALENDAR
