BEGIN:VCALENDAR
VERSION:2.0
PRODID:-//Plone.org//NONSGML plone.app.event//EN
X-WR-TIMEZONE:Europe/Zurich
BEGIN:VEVENT
SUMMARY:eastPLUGGED(R) 24 TINGVALL TRIO "DANCE"
DTSTART;TZID=Europe/Zurich;VALUE=DATE-TIME:20210827T200000
DTSTAMP;VALUE=DATE-TIME:20260420T201044Z
UID:120b460c79b148bdb1549b59739bc09a@localhost:10681
CREATED;VALUE=DATE-TIME:20210127T085227Z
LAST-MODIFIED;VALUE=DATE-TIME:20210314T131401Z
LOCATION:Friedenskirche Hegelstrasse 16
URL:https://www.bluechurch.ch/events/eastplugged-r-24-tingvall-trio-dance
END:VEVENT
BEGIN:VTIMEZONE
TZID:Europe/Zurich
X-LIC-LOCATION:Europe/Zurich
BEGIN:DAYLIGHT
DTSTART;VALUE=DATE-TIME:20210328T030000
TZNAME:CEST
TZOFFSETFROM:+0100
TZOFFSETTO:+0200
END:DAYLIGHT
END:VTIMEZONE
END:VCALENDAR
