BEGIN:VCALENDAR
VERSION:2.0
PRODID:-//Plone.org//NONSGML plone.app.event//EN
X-WR-TIMEZONE:Europe/Zurich
BEGIN:VEVENT
SUMMARY:eastPLUGGED(R)22 Eva Kruse Quintett "NEW LEGEND"
DTSTART;TZID=Europe/Zurich;VALUE=DATE-TIME:20201029T200000
DTSTAMP;VALUE=DATE-TIME:20260420T170712Z
UID:2029610dc3994780a164a25e26d5977a@localhost:10681
CREATED;VALUE=DATE-TIME:20200919T154212Z
LAST-MODIFIED;VALUE=DATE-TIME:20200919T154314Z
LOCATION:Friedenskirche Hegelstrasse 16
URL:https://www.bluechurch.ch/events/eastplugged-r-22-eva-kruse-quintett-n
 ew-legend
END:VEVENT
BEGIN:VTIMEZONE
TZID:Europe/Zurich
X-LIC-LOCATION:Europe/Zurich
BEGIN:STANDARD
DTSTART;VALUE=DATE-TIME:20201025T020000
TZNAME:CET
TZOFFSETFROM:+0200
TZOFFSETTO:+0100
END:STANDARD
END:VTIMEZONE
END:VCALENDAR
