BEGIN:VCALENDAR
VERSION:2.0
PRODID:-//Plone.org//NONSGML plone.app.event//EN
X-WR-TIMEZONE:Europe/Zurich
BEGIN:VEVENT
SUMMARY:eastPLUGGED(R)21 Petter Bergander Trio "Kierkegaard´s Waltz"
DTSTART;TZID=Europe/Zurich;VALUE=DATE-TIME:20200918T200000
DTSTAMP;VALUE=DATE-TIME:20260420T171811Z
UID:b0c60382f6e246329ba637761bc6a03f@localhost:10681
CREATED;VALUE=DATE-TIME:20200227T092655Z
LAST-MODIFIED;VALUE=DATE-TIME:20200227T092655Z
LOCATION:Friedenskirche Hegelstrasse 16
URL:https://www.bluechurch.ch/events/eastplugged-r-21-petter-bergander-tri
 o-kierkegaards-waltz
END:VEVENT
BEGIN:VTIMEZONE
TZID:Europe/Zurich
X-LIC-LOCATION:Europe/Zurich
BEGIN:DAYLIGHT
DTSTART;VALUE=DATE-TIME:20200329T030000
TZNAME:CEST
TZOFFSETFROM:+0100
TZOFFSETTO:+0200
END:DAYLIGHT
END:VTIMEZONE
END:VCALENDAR
