BEGIN:VCALENDAR
VERSION:2.0
PRODID:-//Plone.org//NONSGML plone.app.event//EN
X-WR-TIMEZONE:Europe/Zurich
BEGIN:VEVENT
SUMMARY:eastPLUGGED(R) 19 Doppelkonzert Joachim Kühn + Hakon Kornstad
DTSTART;TZID=Europe/Zurich;VALUE=DATE-TIME:20191031T193000
DTSTAMP;VALUE=DATE-TIME:20260420T135224Z
UID:76f4e318129c42feb1e73f96608f5b7d@localhost:10681
CREATED;VALUE=DATE-TIME:20190418T095650Z
LAST-MODIFIED;VALUE=DATE-TIME:20190820T072424Z
LOCATION:Friedenskirche\, Hegelstrasse 16
URL:https://www.bluechurch.ch/events/eastplugged-r-19-doppelkonzert
END:VEVENT
BEGIN:VTIMEZONE
TZID:Europe/Zurich
X-LIC-LOCATION:Europe/Zurich
BEGIN:STANDARD
DTSTART;VALUE=DATE-TIME:20191027T020000
TZNAME:CET
TZOFFSETFROM:+0200
TZOFFSETTO:+0100
END:STANDARD
END:VTIMEZONE
END:VCALENDAR
