BEGIN:VCALENDAR
VERSION:2.0
PRODID:-//Plone.org//NONSGML plone.app.event//EN
X-WR-TIMEZONE:Europe/Zurich
BEGIN:VEVENT
SUMMARY:eastPLUGGED(R) 25 Festival Tag 1: Nicole Jöhänntgen\, Simon Osle
 nder "solo-solo-Jam"
DTSTART;TZID=Europe/Zurich;VALUE=DATE-TIME:20211029T193000
DTSTAMP;VALUE=DATE-TIME:20260420T200937Z
UID:bf4f78e278bc4a18b807e9ad91703e74@localhost:10681
CREATED;VALUE=DATE-TIME:20210314T130603Z
LAST-MODIFIED;VALUE=DATE-TIME:20210830T094146Z
LOCATION:Friedenskirche\, Hegelstrasse 16
URL:https://www.bluechurch.ch/events/eastplugged-25-festival
END:VEVENT
BEGIN:VTIMEZONE
TZID:Europe/Zurich
X-LIC-LOCATION:Europe/Zurich
BEGIN:DAYLIGHT
DTSTART;VALUE=DATE-TIME:20210328T030000
TZNAME:CEST
TZOFFSETFROM:+0100
TZOFFSETTO:+0200
END:DAYLIGHT
END:VTIMEZONE
END:VCALENDAR
