BEGIN:VCALENDAR
VERSION:2.0
PRODID:-//Plone.org//NONSGML plone.app.event//EN
X-WR-TIMEZONE:Europe/Zurich
BEGIN:VEVENT
SUMMARY:EASTERTIDE JAZZ
DTSTART;TZID=Europe/Zurich;VALUE=DATE-TIME:20200409T140000
DTSTAMP;VALUE=DATE-TIME:20260420T170025Z
UID:11b14cfcb3ab4a74bb54156a8e876d1a@localhost:10681
CREATED;VALUE=DATE-TIME:20200416T124309Z
LAST-MODIFIED;VALUE=DATE-TIME:20200416T124309Z
LOCATION:Online @ www.eastertidejazz.com
URL:https://www.bluechurch.ch/events/eastertide-jazz
END:VEVENT
BEGIN:VTIMEZONE
TZID:Europe/Zurich
X-LIC-LOCATION:Europe/Zurich
BEGIN:DAYLIGHT
DTSTART;VALUE=DATE-TIME:20200329T030000
TZNAME:CEST
TZOFFSETFROM:+0100
TZOFFSETTO:+0200
END:DAYLIGHT
END:VTIMEZONE
END:VCALENDAR
