BEGIN:VCALENDAR
VERSION:2.0
PRODID:-//Plone.org//NONSGML plone.app.event//EN
X-WR-TIMEZONE:Europe/Zurich
BEGIN:VEVENT
SUMMARY:CRESCENDO JAZZ LOUNGE
DTSTART;TZID=Europe/Zurich;VALUE=DATE-TIME:20231012T193000
DTSTAMP;VALUE=DATE-TIME:20260421T024255Z
UID:d244438d47854d09b24ba6e6ad9d374a@localhost:10681
CREATED;VALUE=DATE-TIME:20230930T190924Z
LAST-MODIFIED;VALUE=DATE-TIME:20230930T190924Z
LOCATION:Zoom
URL:https://www.bluechurch.ch/events/crescendo-jazz-lounge
END:VEVENT
BEGIN:VTIMEZONE
TZID:Europe/Zurich
X-LIC-LOCATION:Europe/Zurich
BEGIN:DAYLIGHT
DTSTART;VALUE=DATE-TIME:20230326T030000
TZNAME:CEST
TZOFFSETFROM:+0100
TZOFFSETTO:+0200
END:DAYLIGHT
END:VTIMEZONE
END:VCALENDAR
