BEGIN:VCALENDAR
VERSION:2.0
PRODID:-//Plone.org//NONSGML plone.app.event//EN
X-WR-TIMEZONE:Europe/Zurich
BEGIN:VEVENT
SUMMARY:Come Sunday - Pachelbel In A Circle
DTSTART;TZID=Europe/Zurich;VALUE=DATE-TIME:20191006T180000
DTSTAMP;VALUE=DATE-TIME:20260420T135224Z
UID:a2fcaafae8fd4428b3acdd0170fd4263@localhost:10681
CREATED;VALUE=DATE-TIME:20190828T181114Z
LAST-MODIFIED;VALUE=DATE-TIME:20190902T140616Z
LOCATION:Nazarethkirche  Barbarossastrasse 3
URL:https://www.bluechurch.ch/events/come-sunday-pachelbel-in-a-circle
END:VEVENT
BEGIN:VTIMEZONE
TZID:Europe/Zurich
X-LIC-LOCATION:Europe/Zurich
BEGIN:DAYLIGHT
DTSTART;VALUE=DATE-TIME:20190331T030000
TZNAME:CEST
TZOFFSETFROM:+0100
TZOFFSETTO:+0200
END:DAYLIGHT
END:VTIMEZONE
END:VCALENDAR
