BEGIN:VCALENDAR
VERSION:2.0
PRODID:-//Plone.org//NONSGML plone.app.event//EN
X-WR-TIMEZONE:Europe/Zurich
BEGIN:VEVENT
SUMMARY:Citykirche wohin? Schweizerische Citykirchen-Tagung
DTSTART;TZID=Europe/Zurich;VALUE=DATE-TIME:20190904T120000
DTSTAMP;VALUE=DATE-TIME:20260420T153409Z
UID:7080d35261ca4c238bb24b9bce2e06ff@localhost:10681
CREATED;VALUE=DATE-TIME:20190819T142048Z
LAST-MODIFIED;VALUE=DATE-TIME:20190819T143210Z
LOCATION:Heiliggeistkirche\, Spitalgasse 44
URL:https://www.bluechurch.ch/events/citykirche-wohin-schweizerische-cityk
 irchen-tagung
END:VEVENT
BEGIN:VTIMEZONE
TZID:Europe/Zurich
X-LIC-LOCATION:Europe/Zurich
BEGIN:DAYLIGHT
DTSTART;VALUE=DATE-TIME:20190331T030000
TZNAME:CEST
TZOFFSETFROM:+0100
TZOFFSETTO:+0200
END:DAYLIGHT
END:VTIMEZONE
END:VCALENDAR
