BEGIN:VCALENDAR
VERSION:2.0
PRODID:-//Plone.org//NONSGML plone.app.event//EN
X-WR-TIMEZONE:Europe/Zurich
BEGIN:VEVENT
SUMMARY:Christoph Stiefel Solo Piano - Sofienberg Spirits
DTSTART;TZID=Europe/Zurich;VALUE=DATE-TIME:20220918T193000
DTSTAMP;VALUE=DATE-TIME:20260420T231841Z
UID:89a3c2e647b145af990dad74665db2f2@localhost:10681
CREATED;VALUE=DATE-TIME:20210818T161348Z
LAST-MODIFIED;VALUE=DATE-TIME:20220910T102350Z
LOCATION:Predigerkirche
URL:https://www.bluechurch.ch/events/christoph-stiefel-solo-piano-sofienbe
 rg-spirits
END:VEVENT
BEGIN:VTIMEZONE
TZID:Europe/Zurich
X-LIC-LOCATION:Europe/Zurich
BEGIN:DAYLIGHT
DTSTART;VALUE=DATE-TIME:20220327T030000
TZNAME:CEST
TZOFFSETFROM:+0100
TZOFFSETTO:+0200
END:DAYLIGHT
END:VTIMEZONE
END:VCALENDAR
