BEGIN:VCALENDAR
VERSION:2.0
PRODID:-//Plone.org//NONSGML plone.app.event//EN
X-WR-TIMEZONE:Europe/Zurich
BEGIN:VEVENT
SUMMARY:Christnacht-Jazz-Gottesdienst in der Jazzkirche Zürich
DTSTART;TZID=Europe/Zurich;VALUE=DATE-TIME:20261224T220000
DTSTAMP;VALUE=DATE-TIME:20260419T174300Z
UID:5d5700bcbfea4c5a9f1707b993676eb6@localhost:10681
CREATED;VALUE=DATE-TIME:20251212T170058Z
LAST-MODIFIED;VALUE=DATE-TIME:20251212T170059Z
LOCATION:Neue Kirche Albisrieden\, Ginsterstrasse 48
URL:https://www.bluechurch.ch/events/christnacht-jazz-gottesdienst-in-der-
 jazzkirche-zuerich
END:VEVENT
BEGIN:VTIMEZONE
TZID:Europe/Zurich
X-LIC-LOCATION:Europe/Zurich
BEGIN:STANDARD
DTSTART;VALUE=DATE-TIME:20261025T020000
TZNAME:CET
TZOFFSETFROM:+0200
TZOFFSETTO:+0100
END:STANDARD
END:VTIMEZONE
END:VCALENDAR
