BEGIN:VCALENDAR
VERSION:2.0
PRODID:-//Plone.org//NONSGML plone.app.event//EN
X-WR-TIMEZONE:Europe/Zurich
BEGIN:VEVENT
SUMMARY:ChoralJazz zur Passion
DTSTART;TZID=Europe/Zurich;VALUE=DATE-TIME:20190414T180000
DTSTAMP;VALUE=DATE-TIME:20260420T170419Z
UID:98518bf570214f92b5147ef50f6c6c66@localhost:10681
CREATED;VALUE=DATE-TIME:20190329T074437Z
LAST-MODIFIED;VALUE=DATE-TIME:20190329T074437Z
LOCATION:Süsterkirche Bielefeld-Innenstadt
URL:https://www.bluechurch.ch/events/choraljazz-zur-passion
END:VEVENT
BEGIN:VTIMEZONE
TZID:Europe/Zurich
X-LIC-LOCATION:Europe/Zurich
BEGIN:DAYLIGHT
DTSTART;VALUE=DATE-TIME:20190331T030000
TZNAME:CEST
TZOFFSETFROM:+0100
TZOFFSETTO:+0200
END:DAYLIGHT
END:VTIMEZONE
END:VCALENDAR
