BEGIN:VCALENDAR
VERSION:2.0
PRODID:-//Plone.org//NONSGML plone.app.event//EN
X-WR-TIMEZONE:Europe/Zurich
BEGIN:VEVENT
SUMMARY:Célébration Jazz
DTSTART;TZID=Europe/Zurich;VALUE=DATE-TIME:20210918T183000
DTSTAMP;VALUE=DATE-TIME:20260420T195911Z
UID:ff3145e9af2a4527a5120190798c1400@localhost:10681
CREATED;VALUE=DATE-TIME:20210907T131459Z
LAST-MODIFIED;VALUE=DATE-TIME:20210907T131550Z
LOCATION:117\, rue du Château\, Boulogne-Billancourt
URL:https://www.bluechurch.ch/events/celebration-jazz
END:VEVENT
BEGIN:VTIMEZONE
TZID:Europe/Zurich
X-LIC-LOCATION:Europe/Zurich
BEGIN:DAYLIGHT
DTSTART;VALUE=DATE-TIME:20210328T030000
TZNAME:CEST
TZOFFSETFROM:+0100
TZOFFSETTO:+0200
END:DAYLIGHT
END:VTIMEZONE
END:VCALENDAR
