BEGIN:VCALENDAR
VERSION:2.0
PRODID:-//Plone.org//NONSGML plone.app.event//EN
X-WR-TIMEZONE:Europe/Zurich
BEGIN:VEVENT
SUMMARY:Bülacher Jazzgottesdienst
DTSTART;TZID=Europe/Zurich;VALUE=DATE-TIME:20210627T100000
DTSTAMP;VALUE=DATE-TIME:20260420T183802Z
UID:5f085ac3f0be4290aa857ba36d0ba31b@localhost:10681
CREATED;VALUE=DATE-TIME:20210420T181114Z
LAST-MODIFIED;VALUE=DATE-TIME:20210512T135125Z
LOCATION:Reformierte Kirche
URL:https://www.bluechurch.ch/events/buelacher-jazzgottesdienst
END:VEVENT
BEGIN:VTIMEZONE
TZID:Europe/Zurich
X-LIC-LOCATION:Europe/Zurich
BEGIN:DAYLIGHT
DTSTART;VALUE=DATE-TIME:20210328T030000
TZNAME:CEST
TZOFFSETFROM:+0100
TZOFFSETTO:+0200
END:DAYLIGHT
END:VTIMEZONE
END:VCALENDAR
