BEGIN:VCALENDAR
VERSION:2.0
PRODID:-//Plone.org//NONSGML plone.app.event//EN
X-WR-TIMEZONE:Europe/Zurich
BEGIN:VEVENT
SUMMARY:Bülacher Jazzgottesdienst
DTSTART;TZID=Europe/Zurich;VALUE=DATE-TIME:20230825T193000
DTSTAMP;VALUE=DATE-TIME:20260421T024544Z
UID:b17d899ac33f40e1a6084408daf33797@localhost:10681
CREATED;VALUE=DATE-TIME:20230411T124835Z
LAST-MODIFIED;VALUE=DATE-TIME:20230411T124835Z
LOCATION:Reformierte Kirche
URL:https://www.bluechurch.ch/events/buelacher-jazzgottesdienst-7
END:VEVENT
BEGIN:VTIMEZONE
TZID:Europe/Zurich
X-LIC-LOCATION:Europe/Zurich
BEGIN:DAYLIGHT
DTSTART;VALUE=DATE-TIME:20230326T030000
TZNAME:CEST
TZOFFSETFROM:+0100
TZOFFSETTO:+0200
END:DAYLIGHT
END:VTIMEZONE
END:VCALENDAR
