BEGIN:VCALENDAR
VERSION:2.0
PRODID:-//Plone.org//NONSGML plone.app.event//EN
X-WR-TIMEZONE:Europe/Zurich
BEGIN:VEVENT
SUMMARY:Bülacher Jazzgottesdienst
DTSTART;TZID=Europe/Zurich;VALUE=DATE-TIME:20220930T193000
DTSTAMP;VALUE=DATE-TIME:20260420T231635Z
UID:540e07555db24232961e8fd77e7fb60f@localhost:10681
CREATED;VALUE=DATE-TIME:20220224T104020Z
LAST-MODIFIED;VALUE=DATE-TIME:20220718T084633Z
LOCATION:Reformierte Kirche
URL:https://www.bluechurch.ch/events/buelacher-jazzgottesdienst-5
END:VEVENT
BEGIN:VTIMEZONE
TZID:Europe/Zurich
X-LIC-LOCATION:Europe/Zurich
BEGIN:DAYLIGHT
DTSTART;VALUE=DATE-TIME:20220327T030000
TZNAME:CEST
TZOFFSETFROM:+0100
TZOFFSETTO:+0200
END:DAYLIGHT
END:VTIMEZONE
END:VCALENDAR
