BEGIN:VCALENDAR
VERSION:2.0
PRODID:-//Plone.org//NONSGML plone.app.event//EN
X-WR-TIMEZONE:Europe/Zurich
BEGIN:VEVENT
SUMMARY:Bülacher Jazzgottesdienst
DTSTART;TZID=Europe/Zurich;VALUE=DATE-TIME:20220224T110000
DTSTAMP;VALUE=DATE-TIME:20260420T214152Z
UID:6e2dc7c508f94696af1c49854d6b04ec@localhost:10681
CREATED;VALUE=DATE-TIME:20220224T103030Z
LAST-MODIFIED;VALUE=DATE-TIME:20220224T103030Z
LOCATION:Reformierte Kirche
URL:https://www.bluechurch.ch/events/buelacher-jazzgottesdienst-2
END:VEVENT
BEGIN:VTIMEZONE
TZID:Europe/Zurich
X-LIC-LOCATION:Europe/Zurich
BEGIN:STANDARD
DTSTART;VALUE=DATE-TIME:20211031T020000
TZNAME:CET
TZOFFSETFROM:+0200
TZOFFSETTO:+0100
END:STANDARD
END:VTIMEZONE
END:VCALENDAR
