BEGIN:VCALENDAR
VERSION:2.0
PRODID:-//Plone.org//NONSGML plone.app.event//EN
X-WR-TIMEZONE:Europe/Zurich
BEGIN:VEVENT
SUMMARY:Brunch-Jazz-Gottesdienst zum Beginn der Passionszeit
DTSTART;TZID=Europe/Zurich;VALUE=DATE-TIME:20260222T100000
DTSTAMP;VALUE=DATE-TIME:20260420T102910Z
UID:f67b261c067a4cd0ba0f96b9f2f4a2c6@localhost:10681
CREATED;VALUE=DATE-TIME:20260115T100512Z
LAST-MODIFIED;VALUE=DATE-TIME:20260115T100512Z
LOCATION:Trülli-Saal Herblingen (Trüllenbuck 61)
URL:https://www.bluechurch.ch/events/brunch-jazz-gottesdienst-zum-beginn-d
 er-passionszeit
END:VEVENT
BEGIN:VTIMEZONE
TZID:Europe/Zurich
X-LIC-LOCATION:Europe/Zurich
BEGIN:STANDARD
DTSTART;VALUE=DATE-TIME:20251026T020000
TZNAME:CET
TZOFFSETFROM:+0200
TZOFFSETTO:+0100
END:STANDARD
END:VTIMEZONE
END:VCALENDAR
