BEGIN:VCALENDAR
VERSION:2.0
PRODID:-//Plone.org//NONSGML plone.app.event//EN
X-WR-TIMEZONE:Europe/Zurich
BEGIN:VEVENT
SUMMARY:BlueChurch Dürrenbüchig - Meditative/r Texte und Jazz in der dun
 klen Jahreszeit
DTSTART;TZID=Europe/Zurich;VALUE=DATE-TIME:20201103T200000
DTSTAMP;VALUE=DATE-TIME:20260420T185604Z
UID:6703342740f14c04a5bb69fdc0005064@localhost:10681
CREATED;VALUE=DATE-TIME:20200727T112649Z
LAST-MODIFIED;VALUE=DATE-TIME:20200727T112649Z
LOCATION:Christuskirche
URL:https://www.bluechurch.ch/events/bluechurch-duerrenbuechig-meditative-
 r-texte-und-jazz-in-der-dunklen-jahreszeit
END:VEVENT
BEGIN:VTIMEZONE
TZID:Europe/Zurich
X-LIC-LOCATION:Europe/Zurich
BEGIN:STANDARD
DTSTART;VALUE=DATE-TIME:20201025T020000
TZNAME:CET
TZOFFSETFROM:+0200
TZOFFSETTO:+0100
END:STANDARD
END:VTIMEZONE
END:VCALENDAR
