BEGIN:VCALENDAR
VERSION:2.0
PRODID:-//Plone.org//NONSGML plone.app.event//EN
X-WR-TIMEZONE:Europe/Zurich
BEGIN:VEVENT
SUMMARY:BLUECHURCH-FESTIVAL: Posaunenchor meets Jazz-Quartett
DTSTART;TZID=Europe/Zurich;VALUE=DATE-TIME:20191115T190000
DTSTAMP;VALUE=DATE-TIME:20260420T153431Z
UID:a8182516f2fd47b0bfcd4c498badba85@localhost:10681
CREATED;VALUE=DATE-TIME:20191019T062420Z
LAST-MODIFIED;VALUE=DATE-TIME:20191019T071538Z
LOCATION:Neustädter Marienkirche\, Papenmarkt 10
URL:https://www.bluechurch.ch/events/bluechrch-festival-posaunenchor-meets
 -jazz-quartett
END:VEVENT
BEGIN:VTIMEZONE
TZID:Europe/Zurich
X-LIC-LOCATION:Europe/Zurich
BEGIN:STANDARD
DTSTART;VALUE=DATE-TIME:20191027T020000
TZNAME:CET
TZOFFSETFROM:+0200
TZOFFSETTO:+0100
END:STANDARD
END:VTIMEZONE
END:VCALENDAR
