BEGIN:VCALENDAR
VERSION:2.0
PRODID:-//Plone.org//NONSGML plone.app.event//EN
X-WR-TIMEZONE:Europe/Zurich
BEGIN:VEVENT
SUMMARY:BLUECHURCH-FESTIVAL: Messe meets Jazz
DTSTART;TZID=Europe/Zurich;VALUE=DATE-TIME:20191116T190000
DTSTAMP;VALUE=DATE-TIME:20260420T153242Z
UID:5b48c54ab3f54f7c9fe04ef7bf7d833f@localhost:10681
CREATED;VALUE=DATE-TIME:20191019T070042Z
LAST-MODIFIED;VALUE=DATE-TIME:20191019T071659Z
LOCATION:Evangelisch-Reformierte Süsterkirche\, Güsenstr. 22
URL:https://www.bluechurch.ch/events/bluechrch-festival-messe-meets-jazz
END:VEVENT
BEGIN:VTIMEZONE
TZID:Europe/Zurich
X-LIC-LOCATION:Europe/Zurich
BEGIN:STANDARD
DTSTART;VALUE=DATE-TIME:20191027T020000
TZNAME:CET
TZOFFSETFROM:+0200
TZOFFSETTO:+0100
END:STANDARD
END:VTIMEZONE
END:VCALENDAR
