BEGIN:VCALENDAR
VERSION:2.0
PRODID:-//Plone.org//NONSGML plone.app.event//EN
X-WR-TIMEZONE:Europe/Zurich
BEGIN:VEVENT
SUMMARY:BLUECHURCH-FESTIVAL: It´s Huldrych! Yves Theiler Trio feat. Uwe S
 teinmetz
DTSTART;TZID=Europe/Zurich;VALUE=DATE-TIME:20191116T220000
DTSTAMP;VALUE=DATE-TIME:20260420T153539Z
UID:977387ded52b4dec8340e7978deb9668@localhost:10681
CREATED;VALUE=DATE-TIME:20191019T071107Z
LAST-MODIFIED;VALUE=DATE-TIME:20191019T071724Z
LOCATION:Evangelisch-Reformierte Süsterkirche\, Güsenstr. 22
URL:https://www.bluechurch.ch/events/bluechrch-festival-its-huldrych-yves-
 theiler-trio-feat-uwe-steinmetz
END:VEVENT
BEGIN:VTIMEZONE
TZID:Europe/Zurich
X-LIC-LOCATION:Europe/Zurich
BEGIN:STANDARD
DTSTART;VALUE=DATE-TIME:20191027T020000
TZNAME:CET
TZOFFSETFROM:+0200
TZOFFSETTO:+0100
END:STANDARD
END:VTIMEZONE
END:VCALENDAR
