BEGIN:VCALENDAR
VERSION:2.0
PRODID:-//Plone.org//NONSGML plone.app.event//EN
X-WR-TIMEZONE:Europe/Zurich
BEGIN:VEVENT
SUMMARY:BLUECHURCH-FESTIVAL: Choral-Jazz-Trio Bielefeld meets Orient
DTSTART;TZID=Europe/Zurich;VALUE=DATE-TIME:20191115T220000
DTSTAMP;VALUE=DATE-TIME:20260420T152645Z
UID:e9a0f5c3b21148d29121a8f763d15596@localhost:10681
CREATED;VALUE=DATE-TIME:20191019T064600Z
LAST-MODIFIED;VALUE=DATE-TIME:20191019T071601Z
LOCATION:Bunker Ulmenwall\, Kreuzstr.
URL:https://www.bluechurch.ch/events/bluechrch-festival-choral-jazz-trio-b
 ielefeld-meets-orient
END:VEVENT
BEGIN:VTIMEZONE
TZID:Europe/Zurich
X-LIC-LOCATION:Europe/Zurich
BEGIN:STANDARD
DTSTART;VALUE=DATE-TIME:20191027T020000
TZNAME:CET
TZOFFSETFROM:+0200
TZOFFSETTO:+0100
END:STANDARD
END:VTIMEZONE
END:VCALENDAR
