BEGIN:VCALENDAR
VERSION:2.0
PRODID:-//Plone.org//NONSGML plone.app.event//EN
X-WR-TIMEZONE:Europe/Zurich
BEGIN:VEVENT
SUMMARY:BLUECHURCH-FESTIVAL: "Begegnungen" – Gottesdienst im Bunker
DTSTART;TZID=Europe/Zurich;VALUE=DATE-TIME:20191117T110000
DTSTAMP;VALUE=DATE-TIME:20260420T153518Z
UID:698a564ced19476989fab19899c0815d@localhost:10681
CREATED;VALUE=DATE-TIME:20191019T071421Z
LAST-MODIFIED;VALUE=DATE-TIME:20191019T071758Z
LOCATION:Bunker Ulmenwall\, Kreuzstr.
URL:https://www.bluechurch.ch/events/bluechrch-festival-begegnungen-gottes
 dienst-im-bunker
END:VEVENT
BEGIN:VTIMEZONE
TZID:Europe/Zurich
X-LIC-LOCATION:Europe/Zurich
BEGIN:STANDARD
DTSTART;VALUE=DATE-TIME:20191027T020000
TZNAME:CET
TZOFFSETFROM:+0200
TZOFFSETTO:+0100
END:STANDARD
END:VTIMEZONE
END:VCALENDAR
