BEGIN:VCALENDAR
VERSION:2.0
PRODID:-//Plone.org//NONSGML plone.app.event//EN
X-WR-TIMEZONE:Europe/Zurich
BEGIN:VEVENT
SUMMARY:Blue Church: Jazz – Lyrik – Emotionen
DTSTART;TZID=Europe/Zurich;VALUE=DATE-TIME:20201218T210000
DTSTAMP;VALUE=DATE-TIME:20260420T184046Z
UID:40036a57434d443c93da2f9e13fcee87@localhost:10681
CREATED;VALUE=DATE-TIME:20200723T123023Z
LAST-MODIFIED;VALUE=DATE-TIME:20200723T123023Z
LOCATION:Stadtkirche Wittenberg
URL:https://www.bluechurch.ch/events/blue-church-jazz-lyrik-emotionen-1
END:VEVENT
BEGIN:VTIMEZONE
TZID:Europe/Zurich
X-LIC-LOCATION:Europe/Zurich
BEGIN:STANDARD
DTSTART;VALUE=DATE-TIME:20201025T020000
TZNAME:CET
TZOFFSETFROM:+0200
TZOFFSETTO:+0100
END:STANDARD
END:VTIMEZONE
END:VCALENDAR
