BEGIN:VCALENDAR
VERSION:2.0
PRODID:-//Plone.org//NONSGML plone.app.event//EN
X-WR-TIMEZONE:Europe/Zurich
BEGIN:VEVENT
SUMMARY:Barocke Lamentationen und Jazz
DTSTART;TZID=Europe/Zurich;VALUE=DATE-TIME:20190419T180000
DTSTAMP;VALUE=DATE-TIME:20260420T170528Z
UID:5cbf9ffac0cc48ebbb86bb66bb7307d8@localhost:10681
CREATED;VALUE=DATE-TIME:20181128T153331Z
LAST-MODIFIED;VALUE=DATE-TIME:20181128T153331Z
LOCATION:Nienburg\, St. Martin
URL:https://www.bluechurch.ch/events/barocke-lamentationen-und-jazz
END:VEVENT
BEGIN:VTIMEZONE
TZID:Europe/Zurich
X-LIC-LOCATION:Europe/Zurich
BEGIN:DAYLIGHT
DTSTART;VALUE=DATE-TIME:20190331T030000
TZNAME:CEST
TZOFFSETFROM:+0100
TZOFFSETTO:+0200
END:DAYLIGHT
END:VTIMEZONE
END:VCALENDAR
