BEGIN:VCALENDAR
VERSION:2.0
PRODID:-//Plone.org//NONSGML plone.app.event//EN
X-WR-TIMEZONE:Europe/Zurich
BEGIN:VEVENT
SUMMARY:Balance III
DTSTART;TZID=Europe/Zurich;VALUE=DATE-TIME:20210314T110000
DTSTAMP;VALUE=DATE-TIME:20260420T183047Z
UID:9d0e1e8d4a8d4f03ba08d1e0963bd6b1@localhost:10681
CREATED;VALUE=DATE-TIME:20210225T120615Z
LAST-MODIFIED;VALUE=DATE-TIME:20210225T120926Z
LOCATION:Friedenskirche Hegelstrasse 16
URL:https://www.bluechurch.ch/events/balance-iii
END:VEVENT
BEGIN:VTIMEZONE
TZID:Europe/Zurich
X-LIC-LOCATION:Europe/Zurich
BEGIN:STANDARD
DTSTART;VALUE=DATE-TIME:20201025T020000
TZNAME:CET
TZOFFSETFROM:+0200
TZOFFSETTO:+0100
END:STANDARD
END:VTIMEZONE
END:VCALENDAR
