BEGIN:VCALENDAR
VERSION:2.0
PRODID:-//Plone.org//NONSGML plone.app.event//EN
X-WR-TIMEZONE:Europe/Zurich
BEGIN:VEVENT
SUMMARY:BALANCE II
DTSTART;TZID=Europe/Zurich;VALUE=DATE-TIME:20210307T110000
DTSTAMP;VALUE=DATE-TIME:20260420T183005Z
UID:36fedd9b85eb466db7856acc4be71fe6@localhost:10681
CREATED;VALUE=DATE-TIME:20210225T120318Z
LAST-MODIFIED;VALUE=DATE-TIME:20210225T121009Z
LOCATION:Friedenskirche Hegelstrasse 16
URL:https://www.bluechurch.ch/events/balance-ii
END:VEVENT
BEGIN:VTIMEZONE
TZID:Europe/Zurich
X-LIC-LOCATION:Europe/Zurich
BEGIN:STANDARD
DTSTART;VALUE=DATE-TIME:20201025T020000
TZNAME:CET
TZOFFSETFROM:+0200
TZOFFSETTO:+0100
END:STANDARD
END:VTIMEZONE
END:VCALENDAR
