BEGIN:VCALENDAR
VERSION:2.0
PRODID:-//Plone.org//NONSGML plone.app.event//EN
X-WR-TIMEZONE:Europe/Zurich
BEGIN:VEVENT
SUMMARY:Autumn Leaves - Jazzgottesdienst: Geist. Gegenwart. Improvisation
DTSTART;TZID=Europe/Zurich;VALUE=DATE-TIME:20211114T180000
DTSTAMP;VALUE=DATE-TIME:20260420T214423Z
UID:5470b0ab7d3a4bd5bae4cdc46ea7de35@localhost:10681
CREATED;VALUE=DATE-TIME:20210527T084009Z
LAST-MODIFIED;VALUE=DATE-TIME:20210527T084034Z
LOCATION:Markuskirche\, Sieglitzhofer Straße 4
URL:https://www.bluechurch.ch/events/autumn-leaves-jazzgottesdienst-geist-
 gegenwart-improvisation
END:VEVENT
BEGIN:VTIMEZONE
TZID:Europe/Zurich
X-LIC-LOCATION:Europe/Zurich
BEGIN:STANDARD
DTSTART;VALUE=DATE-TIME:20211031T020000
TZNAME:CET
TZOFFSETFROM:+0200
TZOFFSETTO:+0100
END:STANDARD
END:VTIMEZONE
END:VCALENDAR
