BEGIN:VCALENDAR
VERSION:2.0
PRODID:-//Plone.org//NONSGML plone.app.event//EN
X-WR-TIMEZONE:Europe/Zurich
BEGIN:VEVENT
SUMMARY:Adventsgottesdienst mit Groove
DTSTART;TZID=Europe/Zurich;VALUE=DATE-TIME:20201127T101500
DTSTAMP;VALUE=DATE-TIME:20260420T183802Z
UID:4e214d7cf2a847cc9327187f2d29a108@localhost:10681
CREATED;VALUE=DATE-TIME:20201127T182921Z
LAST-MODIFIED;VALUE=DATE-TIME:20201127T182941Z
LOCATION:Reformierte Kirche Baden
URL:https://www.bluechurch.ch/events/adventsgottesdienst-mit-groove
END:VEVENT
BEGIN:VTIMEZONE
TZID:Europe/Zurich
X-LIC-LOCATION:Europe/Zurich
BEGIN:STANDARD
DTSTART;VALUE=DATE-TIME:20201025T020000
TZNAME:CET
TZOFFSETFROM:+0200
TZOFFSETTO:+0100
END:STANDARD
END:VTIMEZONE
END:VCALENDAR
