BEGIN:VCALENDAR
VERSION:2.0
PRODID:-//Plone.org//NONSGML plone.app.event//EN
X-WR-TIMEZONE:Europe/Zurich
BEGIN:VEVENT
SUMMARY:"A Child Is Born " Jazzgottesdienst - Geist. Gegenwart. Improvis
 ation
DTSTART;TZID=Europe/Zurich;VALUE=DATE-TIME:20201213T190000
DTSTAMP;VALUE=DATE-TIME:20260420T184904Z
UID:6d42bf0e343d418489200d2764725357@localhost:10681
CREATED;VALUE=DATE-TIME:20200731T091457Z
LAST-MODIFIED;VALUE=DATE-TIME:20200801T144613Z
LOCATION:Markuskirche\, Sieglitzhofer Straße 4
URL:https://www.bluechurch.ch/events/a-child-is-born2028-jazzgottesdienst-
 geist-gegenwart-improvisation
END:VEVENT
BEGIN:VTIMEZONE
TZID:Europe/Zurich
X-LIC-LOCATION:Europe/Zurich
BEGIN:STANDARD
DTSTART;VALUE=DATE-TIME:20201025T020000
TZNAME:CET
TZOFFSETFROM:+0200
TZOFFSETTO:+0100
END:STANDARD
END:VTIMEZONE
END:VCALENDAR
