BEGIN:VCALENDAR
VERSION:2.0
PRODID:-//Plone.org//NONSGML plone.app.event//EN
X-WR-TIMEZONE:Europe/Zurich
BEGIN:VEVENT
SUMMARY:50 Jahre Friedenskirche: Konzertgottesdienst mit Tord Gustavsen un
 d Uwe Steinmetz
DTSTART;TZID=Europe/Zurich;VALUE=DATE-TIME:20220911T110000
DTSTAMP;VALUE=DATE-TIME:20260421T005045Z
UID:b3911cca7ad746d19afaad6ed49a5fc8@localhost:10681
CREATED;VALUE=DATE-TIME:20220521T083925Z
LAST-MODIFIED;VALUE=DATE-TIME:20220521T083925Z
LOCATION:Friedenskirch Hegelstr.16
URL:https://www.bluechurch.ch/events/50-jahre-friedenskirche-konzertgottes
 dienst-mit-tord-gustavsen-und-uwe-steinmetz
END:VEVENT
BEGIN:VTIMEZONE
TZID:Europe/Zurich
X-LIC-LOCATION:Europe/Zurich
BEGIN:DAYLIGHT
DTSTART;VALUE=DATE-TIME:20220327T030000
TZNAME:CEST
TZOFFSETFROM:+0100
TZOFFSETTO:+0200
END:DAYLIGHT
END:VTIMEZONE
END:VCALENDAR
