BEGIN:VCALENDAR
VERSION:2.0
PRODID:-//Plone.org//NONSGML plone.app.event//EN
X-WR-TIMEZONE:Europe/Zurich
BEGIN:VEVENT
SUMMARY:50 Jahre Friedenskirche:  Konzert mit Tord Gustavsen\, Uwe Steinme
 tz und Siv Øyunn Kjenstad
DTSTART;TZID=Europe/Zurich;VALUE=DATE-TIME:20220910T193000
DTSTAMP;VALUE=DATE-TIME:20260420T232524Z
UID:a2e3e68d329548feb0f1ca23b3d9ab8c@localhost:10681
CREATED;VALUE=DATE-TIME:20220521T083337Z
LAST-MODIFIED;VALUE=DATE-TIME:20220521T083409Z
LOCATION:Friedenskirche\, Hegelstr. 16
URL:https://www.bluechurch.ch/events/50-jahre-friedenskirche-konzert-mit-t
 ord-gustavsen-uwe-steinmetz-und-siv-oyunn-kjenstad
END:VEVENT
BEGIN:VTIMEZONE
TZID:Europe/Zurich
X-LIC-LOCATION:Europe/Zurich
BEGIN:DAYLIGHT
DTSTART;VALUE=DATE-TIME:20220327T030000
TZNAME:CEST
TZOFFSETFROM:+0100
TZOFFSETTO:+0200
END:DAYLIGHT
END:VTIMEZONE
END:VCALENDAR
