BEGIN:VCALENDAR
VERSION:2.0
PRODID:-//Plone.org//NONSGML plone.app.event//EN
X-WR-TIMEZONE:Europe/Zurich
BEGIN:VEVENT
SUMMARY:100 Jahre Frauenordination in Zürich
DTSTART;TZID=Europe/Zurich;VALUE=DATE-TIME:20181027T140000
DTSTAMP;VALUE=DATE-TIME:20260421T122038Z
UID:a67a784bb9a84fdf8230b09d2184a1b9@localhost:10681
CREATED;VALUE=DATE-TIME:20180816T193723Z
LAST-MODIFIED;VALUE=DATE-TIME:20180816T193723Z
LOCATION:Kirche St. Peter
URL:https://www.bluechurch.ch/events/100-jahre-frauenordination-in-zuerich
END:VEVENT
BEGIN:VTIMEZONE
TZID:Europe/Zurich
X-LIC-LOCATION:Europe/Zurich
BEGIN:DAYLIGHT
DTSTART;VALUE=DATE-TIME:20180325T030000
TZNAME:CEST
TZOFFSETFROM:+0100
TZOFFSETTO:+0200
END:DAYLIGHT
END:VTIMEZONE
END:VCALENDAR
